BEGIN:VCALENDAR
VERSION:2.0
METHOD:PUBLISH
CALSCALE:GREGORIAN
PRODID:-//WordPress - MECv7.32.0//EN
X-ORIGINAL-URL:https://www.iacjuangilalbert.com/
X-WR-CALNAME:IAC Juan Gil Albert
X-WR-CALDESC:IAC Juan Gil Albert
X-WR-TIMEZONE:Europe/Madrid
BEGIN:VTIMEZONE
TZID:Europe/Madrid
X-LIC-LOCATION:Europe/Madrid
BEGIN:DAYLIGHT
TZOFFSETFROM:+0100
TZOFFSETTO:+0200
TZNAME:CEST
DTSTART:20260329T030000
RRULE:FREQ=YEARLY;BYMONTH=03;BYDAY=-1SU
END:DAYLIGHT
BEGIN:STANDARD
TZOFFSETFROM:+0200
TZOFFSETTO:+0100
TZNAME:CET
DTSTART:20261025T020000
RRULE:FREQ=YEARLY;BYMONTH=10;BYDAY=4SU
END:STANDARD
END:VTIMEZONE
REFRESH-INTERVAL;VALUE=DURATION:PT1H
X-PUBLISHED-TTL:PT1H
X-MS-OLK-FORCEINSPECTOROPEN:TRUE
BEGIN:VEVENT
CLASS:PUBLIC
UID:MEC-ad2c9e0a9c46d5f3de817714c17d64cd@iacjuangilalbert.com
DTSTART;TZID=Europe/Madrid:20260424T120000
DTEND;TZID=Europe/Madrid:20260424T180000
DTSTAMP:20260410T092425Z
CREATED:20260410
LAST-MODIFIED:20260410
PRIORITY:5
SEQUENCE:1
TRANSP:OPAQUE
SUMMARY:Proyección de «La argentina. Lejos de las palabras»
DESCRIPTION:\nDocumental de Patricia Medina sobre la bailarina Antonia Mercé, La Argentina (1890-1936). En el marco del festival Abril en Danza.\n\n\n\n\n
URL:https://www.iacjuangilalbert.com/events/proyeccion-de-la-argentina-lejos-de-las-palabras/
CATEGORIES:Actividades
LOCATION:Casa Bardin, Alicante
ATTACH;FMTTYPE=image/webp:https://www.iacjuangilalbert.com/wp-content/uploads/2026/04/la-Argentina-fotograma.webp
END:VEVENT
BEGIN:VEVENT
CLASS:PUBLIC
UID:MEC-5df7657a7d6b119029e5ad06fe039644@iacjuangilalbert.com
DTSTART;TZID=Europe/Madrid:20260424T190000
DTEND;TZID=Europe/Madrid:20260424T190000
DTSTAMP:20260410T094314Z
CREATED:20260410
LAST-MODIFIED:20260410
PRIORITY:5
SEQUENCE:1
TRANSP:OPAQUE
SUMMARY:Ciclo «La mirada oblicua». Enric González y Darío Adanti.
DESCRIPTION:\nNuevo ciclo de conversaciones. En esta primera sesión con el periodista Enric González y el creador de la revista Mongolia, Darío Adanti, que hablarán sobre «Las buenas noticias y el mundo contemporáneo». Modera Joaquín Manresa.\n\n\n\n\n
URL:https://www.iacjuangilalbert.com/events/ciclo-la-mirada-oblicua-enric-gonzalez-y-dario-adanti/
CATEGORIES:Actividades
LOCATION:Casa Bardin, Alicante
ATTACH;FMTTYPE=image/jpeg:https://www.iacjuangilalbert.com/wp-content/uploads/2026/04/formato-web.jpg
END:VEVENT
BEGIN:VEVENT
CLASS:PUBLIC
UID:MEC-7debb2fb5d95fdb307d636dd3972171a@iacjuangilalbert.com
DTSTART;TZID=Europe/Madrid:20260424T190000
DTEND;TZID=Europe/Madrid:20260424T190000
DTSTAMP:20260410T095838Z
CREATED:20260410
LAST-MODIFIED:20260410
PRIORITY:5
SEQUENCE:2
TRANSP:OPAQUE
SUMMARY:Presntación libro «Las obras del P. Torró»
DESCRIPTION:\nJesús Giner Pellicer presenta su libro sobre la figura del pedagogo, escritor y franciscano español de Cocentaina, editado por el IAC.\n
URL:https://www.iacjuangilalbert.com/events/presntacion-libro-las-obras-del-p-torro/
CATEGORIES:Actividades
LOCATION:Convento de los Franciscanos, Cocentaina
ATTACH;FMTTYPE=image/jpeg:https://www.iacjuangilalbert.com/wp-content/uploads/2026/04/formato-foto-web-4.jpg
END:VEVENT
BEGIN:VEVENT
CLASS:PUBLIC
UID:MEC-c6dd57cb9806eadc9f7915a90d91aa92@iacjuangilalbert.com
DTSTART;TZID=Europe/Madrid:20260425T103000
DTEND;TZID=Europe/Madrid:20260425T180000
DTSTAMP:20260410T095106Z
CREATED:20260410
LAST-MODIFIED:20260423
PRIORITY:5
SEQUENCE:12
TRANSP:OPAQUE
SUMMARY:Ciclo «Rostros con historias». Emilio Varela
DESCRIPTION:\nINSCRIPCIÓN GRATUITA ( https://www.enterticket.es/eventos/ciclo-rostros-con-historia-75-anos-sin-emilio-varela-673835 )\n\n\n\nConmemoramosel 75 aniversario de su muerte con una conferencia, una visita guiada por Sella y con una exposición sobre su figura. A cargo de Jordi Navas.\n\n\n\n\n
URL:https://www.iacjuangilalbert.com/events/ciclo-rostros-con-historias-emilio-varela/
CATEGORIES:Actividades
ATTACH;FMTTYPE=image/jpeg:https://www.iacjuangilalbert.com/wp-content/uploads/2026/04/Emilio-varela-web.jpg
END:VEVENT
BEGIN:VEVENT
CLASS:PUBLIC
UID:MEC-95753ccc84f42b133d6db84a22df8dd4@iacjuangilalbert.com
DTSTART;TZID=Europe/Madrid:20260426T093000
DTEND;TZID=Europe/Madrid:20260426T180000
DTSTAMP:20260414T115126Z
CREATED:20260414
LAST-MODIFIED:20260423
PRIORITY:5
SEQUENCE:4
TRANSP:OPAQUE
SUMMARY:Ciclo «Ruta de los castillos». Castillo de Cocentaina.
DESCRIPTION:\nINSCRIPCIÓN GRATUITA ( https://www.enterticket.es/eventos/ciclo-ruta-de-los-castillos-castillo-de-cocentaina-835448 )\n\n\n\nVisita a esta torre de estilo gótico y militar de finales del siglo XIII y principios del XIV. Se contemplará con un recorrido por el Palau Comtal y los refugios. A cargo de José Luis Menéndez Fueyo.\n\n\n\n\n\n\n\n\n
URL:https://www.iacjuangilalbert.com/events/ciclo-ruta-de-los-castillos-castillo-de-cocentaina/
CATEGORIES:Actividades
LOCATION:Castillo Cocentaina
ATTACH;FMTTYPE=image/jpeg:https://www.iacjuangilalbert.com/wp-content/uploads/2026/04/formato-foto-web-6.jpg
END:VEVENT
BEGIN:VEVENT
CLASS:PUBLIC
UID:MEC-be1c598ba7f697a4d255b4df13d8ffde@iacjuangilalbert.com
DTSTART;TZID=Europe/Madrid:20260427T190000
DTEND;TZID=Europe/Madrid:20260427T190000
DTSTAMP:20260414T111459Z
CREATED:20260414
LAST-MODIFIED:20260414
PRIORITY:5
SEQUENCE:2
TRANSP:OPAQUE
SUMMARY:Ciclo «La mirada oblicua». Un paseo con Azcona.
DESCRIPTION:\nSesión dedica a la figura de Rafael Azcona, por el centenario de su nacimiento. Con el cineasta Víctor García León y el  guionista Bernardo Sánchez Salas.\n\n\n\n\n
URL:https://www.iacjuangilalbert.com/events/ciclo-la-mirada-oblicua-un-paseo-con-azcona/
CATEGORIES:Actividades
LOCATION:Casa Bardin, Alicante
ATTACH;FMTTYPE=image/jpeg:https://www.iacjuangilalbert.com/wp-content/uploads/2026/04/formato-foto-web-5.jpg
END:VEVENT
BEGIN:VEVENT
CLASS:PUBLIC
UID:MEC-d1d8b9bbeefe2d37fc12e8aa4abf7e86@iacjuangilalbert.com
DTSTART;TZID=Europe/Madrid:20260428T180000
DTEND;TZID=Europe/Madrid:20260428T180000
DTSTAMP:20260410T123242Z
CREATED:20260410
LAST-MODIFIED:20260423
PRIORITY:5
SEQUENCE:4
TRANSP:OPAQUE
SUMMARY:Ciclo «Música joven»
DESCRIPTION:\nConcierto de estudiantes del departamento de Piano del Conservatorio Superior de Música Óscar Esplá de Alicante.\n\n\n\n\n
URL:https://www.iacjuangilalbert.com/events/ciclo-musica-joven-3/
CATEGORIES:Actividades
LOCATION:Casa Bardin, Alicante
ATTACH;FMTTYPE=image/jpeg:https://www.iacjuangilalbert.com/wp-content/uploads/2026/04/foto-musica-joven-web.jpg
END:VEVENT
BEGIN:VEVENT
CLASS:PUBLIC
UID:MEC-32bb9f32e97807c36a1b1a881b31d33b@iacjuangilalbert.com
DTSTART;TZID=Europe/Madrid:20260428T190000
DTEND;TZID=Europe/Madrid:20260428T190000
DTSTAMP:20260414T115413Z
CREATED:20260414
LAST-MODIFIED:20260414
PRIORITY:5
SEQUENCE:1
TRANSP:OPAQUE
SUMMARY:Ciclo «Provincia del tesoro». Visita a una obra de Salzillo.
DESCRIPTION:\nINSCRIPCIÓN GRATUITA ( https://www.enterticket.es/eventos/cilco-provincia-del-tesoro-visita-una-obra-de-salzillo-597747 )\n\n\n\n\n\n\n\nLa imagen de la Virgen de la Purísima de la Ermita de Crevillent se acaba de atribuir a Salzillo, después de numerosas investigaciones realizadas por Ana Satorre y Antonio Fernández Labaña que lo contarán en público por primera vez.\n\n\n\n\n
URL:https://www.iacjuangilalbert.com/events/ciclo-provincia-del-tesoro-visita-a-una-obra-de-salzillo/
CATEGORIES:Actividades
LOCATION:Museo Mariano Benilliure, Crevillent
ATTACH;FMTTYPE=image/jpeg:https://www.iacjuangilalbert.com/wp-content/uploads/2026/04/fotos-web-1.jpg
END:VEVENT
BEGIN:VEVENT
CLASS:PUBLIC
UID:MEC-d6974677d201a520dcf63a22455787bb@iacjuangilalbert.com
DTSTART;TZID=Europe/Madrid:20260429T190000
DTEND;TZID=Europe/Madrid:20260429T190000
DTSTAMP:20260414T124729Z
CREATED:20260414
LAST-MODIFIED:20260414
PRIORITY:5
SEQUENCE:1
TRANSP:OPAQUE
SUMMARY:Ciclo «Músicos en el recuerdo». Gonzalo Soriano
DESCRIPTION:\nRecuperamos la figura de este pianista internacional, fundamental para la difusión de la música contemporánea. A cargo de Isabel Seva, biógrafa del pianista.\n\n\n\n\n
URL:https://www.iacjuangilalbert.com/events/ciclo-musicos-en-el-recuerdo-gonzalo-soriano/
CATEGORIES:Actividades
LOCATION:Casa Bardin, Alicante
ATTACH;FMTTYPE=image/jpeg:https://www.iacjuangilalbert.com/wp-content/uploads/2026/04/formato-foto-web-7.jpg
END:VEVENT
BEGIN:VEVENT
CLASS:PUBLIC
UID:MEC-2a105749194b245dc8fed18134ced7a6@iacjuangilalbert.com
DTSTART;TZID=Europe/Madrid:20260429T190000
DTEND;TZID=Europe/Madrid:20260429T190000
DTSTAMP:20260414T125936Z
CREATED:20260414
LAST-MODIFIED:20260414
PRIORITY:5
SEQUENCE:2
TRANSP:OPAQUE
SUMMARY:Presentación del libro «Teatro contra la desmemoria»
DESCRIPTION:\nEste libro, publicado por el IAC Juan Gil-Albert, recoge tres piezas teatrales de Juan Luis Mira.\n\n\n\n\n\n\n
URL:https://www.iacjuangilalbert.com/events/presentacion-de-teatro-contra-la-desmemoria/
CATEGORIES:Actividades
LOCATION:Teatro Principal
ATTACH;FMTTYPE=image/jpeg:https://www.iacjuangilalbert.com/wp-content/uploads/2026/04/formato-foto-web-8.jpg
END:VEVENT
BEGIN:VEVENT
CLASS:PUBLIC
UID:MEC-5b92e4945eb3a04990671a4da604ff17@iacjuangilalbert.com
DTSTART;TZID=Europe/Madrid:20260430T190000
DTEND;TZID=Europe/Madrid:20260430T190000
DTSTAMP:20260414T125605Z
CREATED:20260414
LAST-MODIFIED:20260414
PRIORITY:5
SEQUENCE:1
TRANSP:OPAQUE
SUMMARY:Ciclo «Estatuto del artista». Artes escénicas.
DESCRIPTION:\nSegunda sesión de este ciclo, en torno a las artes escénicas. Con el iluminador Juanjo Llorens, el bailarín y coreógrafo Gustavo Ramírez y el músico Luis Ivars.\n\n\n\n\n
URL:https://www.iacjuangilalbert.com/events/ciclo-estatuto-del-artista-artes-escenicas/
CATEGORIES:Actividades
LOCATION:Centro Cultural Las Clarisas, Elche
ATTACH;FMTTYPE=image/jpeg:https://www.iacjuangilalbert.com/wp-content/uploads/2026/02/estatuto-web.jpg
END:VEVENT
BEGIN:VEVENT
CLASS:PUBLIC
UID:MEC-2f4933c1afab8024d9f80a42a58c9c67@iacjuangilalbert.com
DTSTART;TZID=Europe/Madrid:20260430T190000
DTEND;TZID=Europe/Madrid:20260430T190000
DTSTAMP:20260414T134219Z
CREATED:20260414
LAST-MODIFIED:20260414
PRIORITY:5
SEQUENCE:1
TRANSP:OPAQUE
SUMMARY:Presentación del Libro «Alicante, ciudad mestiza»
DESCRIPTION:\nLibro de fotografías de Raúl Reyero sobre diferentes aspectos de la ciudad de Alicante.\n
URL:https://www.iacjuangilalbert.com/events/presentacion-del-libro-alicante-ciudad-mestiza/
CATEGORIES:Actividades
LOCATION:Casa Bardin, Alicante
ATTACH;FMTTYPE=image/jpeg:https://www.iacjuangilalbert.com/wp-content/uploads/2026/04/formato-foto-web-9.jpg
END:VEVENT
BEGIN:VEVENT
CLASS:PUBLIC
UID:MEC-3c393443d24e71aeb3557011787c11cd@iacjuangilalbert.com
DTSTART;TZID=Europe/Madrid:20260502T110000
DTEND;TZID=Europe/Madrid:20260502T180000
DTSTAMP:20260421T120510Z
CREATED:20260421
LAST-MODIFIED:20260421
PRIORITY:5
SEQUENCE:1
TRANSP:OPAQUE
SUMMARY:Ciclo» La provincia del tesoro». Cuadro de Sorolla
DESCRIPTION:\nINSCRIPCIÓN GRATUITA ( https://www.enterticket.es/eventos/ciclo-la-provincia-del-tesorocuadro-de-sorolla-305289 )\n\n\n\nVisita a la Parroquia de San Cristóbal para conocer el cuadro «San Luis Rey» de Joaquín Sorolla. A cargo de José Limorti Guill.\n\n\n\n\n\n\n\n\n\n\n\n\n
URL:https://www.iacjuangilalbert.com/events/ciclo-la-provincia-del-tesoro-cuadro-de-sorolla/
CATEGORIES:Actividades
LOCATION:Parroquia San Cristóbal, La Cañada
ATTACH;FMTTYPE=image/jpeg:https://www.iacjuangilalbert.com/wp-content/uploads/2026/04/WhatsApp-Image-2026-04-20-at-13.18.28.jpeg
END:VEVENT
BEGIN:VEVENT
CLASS:PUBLIC
UID:MEC-a7f43c371cfd5a2c8eec5cdbd2299ad3@iacjuangilalbert.com
DTSTART;TZID=Europe/Madrid:20260503T120000
DTEND;TZID=Europe/Madrid:20260503T180000
DTSTAMP:20260420T111049Z
CREATED:20260420
LAST-MODIFIED:20260420
PRIORITY:5
SEQUENCE:2
TRANSP:OPAQUE
SUMMARY:Ciclo» Cultura sostenible». Eco Expedición por Finestrat.
DESCRIPTION:\nINSCRIPCIÓN GRATUITA ( https://www.enterticket.es/eventos/ciclocultura-sostenible-eco-expedicion-por-finestrat-306076 )\n\n\n\nPropuesta para promover hábitos proambientales mediante experiencias artísticas por Finestrat y alrededores. A cargo de Miriam García Guirao\n\n\n\n\n\n\n
URL:https://www.iacjuangilalbert.com/events/ciclo-cultura-sostenible-eco-expedicion-por-finestrat/
CATEGORIES:Actividades
LOCATION:Plaza Unión Europea, Finestrat
ATTACH;FMTTYPE=image/jpeg:https://www.iacjuangilalbert.com/wp-content/uploads/2026/04/Finestrat_formato-foto-web.jpg
END:VEVENT
BEGIN:VEVENT
CLASS:PUBLIC
UID:MEC-3bddd1aafe78ece8cf3ed90b61d847d8@iacjuangilalbert.com
DTSTART;TZID=Europe/Madrid:20260503T090000
DTEND;TZID=Europe/Madrid:20260503T180000
DTSTAMP:20260423T093945Z
CREATED:20260423
LAST-MODIFIED:20260423
PRIORITY:5
SEQUENCE:2
TRANSP:OPAQUE
SUMMARY:Ciclo»Rutas con huella». Barranc de la Rambla de Crevillent.
DESCRIPTION:\nINSCRIPCIÓN GRATUITA ( https://www.enterticket.es/eventos/ciclorutas-con-huellasbarranc-de-la-rambla-de-crevillent-941881 )\n\n\n\nLa Ruta del Barranc de la Rambla, ofrece una serie de variables que confieren un elevado valor patrimonial desde un punto de vista arqueológico. Desde la primera presencia humana en el sur de Alicante, pasando por los primeros poblados estables, ya en plena Edad del Cobre, hasta llegar a la protohistoria con enclaves de época ibérica, incluso de época romana: el conjunto de enclaves permite ofrecer una explicación coherente e integral del desarrollo del poblamiento humano en el sur de Alicante, partiendo de las evidencias arqueológicas constatadas en la sierra de Crevillent. Desde el punto de vista del patrimonio cultural, este itinerario destaca especialmente por la notable concentración de elementos de elevado valor patrimonial: arqueológico, etnográfico, geológico y paleontológico. Dificultad baja. Especialista que realizará la ruta: Daniel Belmonte.\n\n\n\n\n\n\n\n\n
URL:https://www.iacjuangilalbert.com/events/cicloruas-con-huella-barranc-de-la-rambla-de-crevillent/
CATEGORIES:Actividades
ATTACH;FMTTYPE=image/jpeg:https://www.iacjuangilalbert.com/wp-content/uploads/2026/04/PHOTO-2026-04-20-15-45-05.jpg
END:VEVENT
END:VCALENDAR
